BEGIN:VCALENDAR
VERSION:2.0
PRODID:-//Tripinic - ECPv6.15.20//NONSGML v1.0//EN
CALSCALE:GREGORIAN
METHOD:PUBLISH
X-ORIGINAL-URL:https://tripinic.com
X-WR-CALDESC:Events for Tripinic
REFRESH-INTERVAL;VALUE=DURATION:PT1H
X-Robots-Tag:noindex
X-PUBLISHED-TTL:PT1H
BEGIN:VTIMEZONE
TZID:Asia/Kolkata
BEGIN:STANDARD
TZOFFSETFROM:+0530
TZOFFSETTO:+0530
TZNAME:IST
DTSTART:20250101T000000
END:STANDARD
END:VTIMEZONE
BEGIN:VEVENT
DTSTART;TZID=Asia/Kolkata:20260614T060000
DTEND;TZID=Asia/Kolkata:20260614T170000
DTSTAMP:20260420T034428
CREATED:20260419T064527Z
LAST-MODIFIED:20260419T094030Z
UID:17182-1781416800-1781456400@tripinic.com
SUMMARY:Chimmini Wildlife Sanctuary Monsoon Trek
DESCRIPTION:Dive into the heart of Kerala’s untamed wilderness with Tripinic Adventures’ exclusive Chimmini Wildlife Sanctuary Monsoon Trek! As the monsoons transform the sanctuary into a vibrant emerald paradise\, join us for an exhilarating moderate-grade trek through misty hills\, waterfalls\, and dense forests teeming with life. \n\n\n\nWhat to Expect: \n\n\n\n\n13 km round trek with panoramic views of the sanctuary’s biodiversity\n\n\n\nThrilling coracle ride on the river\n\n\n\nGuided by expert Tripinic adventurers \n\n\n\nBreakfast & lunch \n\n\n\nTransportation from Thrissur to Thrissur\n\n\n\nPerfect for trekkers\, photographers\, and nature lovers\n\n\n\n\nMeeting Point: Thrissur Railway StationBook Now: Call or WhatsApp +918590015770 \n\n\n\nSpots are filling fast. Gear up and let’s Tripinic!
URL:https://tripinic.com/adventure/chimmini-wildlife-sanctuary-monsoon-trek/
CATEGORIES:Treks
ATTACH;FMTTYPE=image/jpeg:https://tripinic.com/wp-content/uploads/2026/04/Chimmini-Trek.jpeg
END:VEVENT
END:VCALENDAR