BEGIN:VCALENDAR
VERSION:2.0
PRODID:-//Tripinic - ECPv6.15.20//NONSGML v1.0//EN
CALSCALE:GREGORIAN
METHOD:PUBLISH
X-WR-CALNAME:Tripinic
X-ORIGINAL-URL:https://tripinic.com
X-WR-CALDESC:Events for Tripinic
REFRESH-INTERVAL;VALUE=DURATION:PT1H
X-Robots-Tag:noindex
X-PUBLISHED-TTL:PT1H
BEGIN:VTIMEZONE
TZID:Asia/Kolkata
BEGIN:STANDARD
TZOFFSETFROM:+0530
TZOFFSETTO:+0530
TZNAME:IST
DTSTART:20250101T000000
END:STANDARD
END:VTIMEZONE
BEGIN:VEVENT
DTSTART;TZID=Asia/Kolkata:20260430T090000
DTEND;TZID=Asia/Kolkata:20260501T210000
DTSTAMP:20260420T014748
CREATED:20260419T054657Z
LAST-MODIFIED:20260419T093133Z
UID:17162-1777539600-1777669200@tripinic.com
SUMMARY:Shri Mangala Devi Kannagi Temple Trek
DESCRIPTION:Dive into the heart of ancient legends with Tripinic Adventures’ exclusive Shri Mangala Devi Kannagi Temple Trek! Ascend the exciting slopes of the Western Ghats to the historic Kannagi Temple atop the hills in Kumily\, where myth meets mist-shrouded forests on this thrilling moderate-to-challenging adventure. \n\n\n\nWhat to Expect: \n\n\n\n\n25 km round trek with panoramic views of tea estates and valleys\n\n\n\nDarshan at the 1\,000-year-old Mangala Devi Temple (open only 1 day/year!)\n\n\n\nGuided by expert Tripinic adventurers\n\n\n\nTransportation from Kottayam to Kottayam\n\n\n\nCozy accommodation with food\n\n\n\nPerfect for trekkers\, photographers\, and mythology enthusiasts\n\n\n\n\nMeeting Point: Kottayam Railway StationBook Now: Call or WhatsApp +918590015770Spots are filling fast. Gear up and let’s Tripinic!
URL:https://tripinic.com/adventure/shri-mangala-devi-kannagi-temple-trek/
CATEGORIES:Treks
ATTACH;FMTTYPE=image/jpeg:https://tripinic.com/wp-content/uploads/2026/04/Mangala-Devi-Kannagi-Temple-Trek.jpeg
ORGANIZER;CN="Tripinic Adventures":MAILTO:tripinic@gmail.com
END:VEVENT
BEGIN:VEVENT
DTSTART;TZID=Asia/Kolkata:20260614T060000
DTEND;TZID=Asia/Kolkata:20260614T170000
DTSTAMP:20260420T014748
CREATED:20260419T064527Z
LAST-MODIFIED:20260419T094030Z
UID:17182-1781416800-1781456400@tripinic.com
SUMMARY:Chimmini Wildlife Sanctuary Monsoon Trek
DESCRIPTION:Dive into the heart of Kerala’s untamed wilderness with Tripinic Adventures’ exclusive Chimmini Wildlife Sanctuary Monsoon Trek! As the monsoons transform the sanctuary into a vibrant emerald paradise\, join us for an exhilarating moderate-grade trek through misty hills\, waterfalls\, and dense forests teeming with life. \n\n\n\nWhat to Expect: \n\n\n\n\n13 km round trek with panoramic views of the sanctuary’s biodiversity\n\n\n\nThrilling coracle ride on the river\n\n\n\nGuided by expert Tripinic adventurers \n\n\n\nBreakfast & lunch \n\n\n\nTransportation from Thrissur to Thrissur\n\n\n\nPerfect for trekkers\, photographers\, and nature lovers\n\n\n\n\nMeeting Point: Thrissur Railway StationBook Now: Call or WhatsApp +918590015770 \n\n\n\nSpots are filling fast. Gear up and let’s Tripinic!
URL:https://tripinic.com/adventure/chimmini-wildlife-sanctuary-monsoon-trek/
CATEGORIES:Treks
ATTACH;FMTTYPE=image/jpeg:https://tripinic.com/wp-content/uploads/2026/04/Chimmini-Trek.jpeg
END:VEVENT
BEGIN:VEVENT
DTSTART;TZID=Asia/Kolkata:20260627T140000
DTEND;TZID=Asia/Kolkata:20260628T140000
DTSTAMP:20260420T014748
CREATED:20260419T080405Z
LAST-MODIFIED:20260419T093556Z
UID:17194-1782568800-1782655200@tripinic.com
SUMMARY:Cherupuzha River Rafting & Odakolly Natural Cave Expedition
DESCRIPTION:Let’s explore Kannur’s hidden wonders and raging rivers with Tripinic Adventures’ exclusive Odakkolly Natural Cave Expedition & Chrupuzha River Rafting! Conquer a 2-3 km thrilling cave expedition and Class II-III rapids on this epic 2-day monsoon adventure. \n\n\n\nWhat to Expect: \n\n\n\n\nOdakkolly Natural Cave Expedition: 2-3 km thrilling underground journey\n\n\n\nChrupuzha River Rafting: 10 km adrenaline-pumping ride through gorges and waterfalls\n\n\n\nGuided by expert Tripinic adventurers\n\n\n\nAll meals (breakfast\, lunch\, dinner) + Campfire vibes\n\n\n\nTransportation from Payyanur to Payyanur + Overnight stay\n\n\n\nPerfect for adrenaline junkies\, explorers\, and group adventurers\n\n\n\n\nMeeting Point: Payyannur Railway StationBook Now: Call or WhatsApp +918590015770 \n\n\n\nSpots are filling fast. Gear up and let’s Tripinic!
URL:https://tripinic.com/adventure/cherupuzha-river-rafting-odakolly-natural-cave-expedition/
ATTACH;FMTTYPE=image/jpeg:https://tripinic.com/wp-content/uploads/2026/04/Cherupzha-River-Rafting.jpeg
END:VEVENT
END:VCALENDAR